BEGIN:VCALENDAR
VERSION:2.0
PRODID:-//missoulaeduplace.org//NONSGML kigkonsult.se iCalcreator 2.30.10//
CALSCALE:GREGORIAN
METHOD:PUBLISH
UID:69efbda8-8e26-49c9-935e-e2a60df77933
X-WR-CALDESC:Join the Home Upgrade Hub for the first semi-annual Planning a
  Home Energy Efficiency Retrofit Workshop Series! This four-week series wi
 ll guide attendees through the multiple steps of planning and prioritizing
  their home’s retrofit resulting in cost savings\, improved indoor air qua
 lity\, and comfort levels! \n\nSession 1: Assessing & Analyzing Your Home 
 Energy Use\n\nLearning objectives: \n- Understand Energy audits: how to ac
 cess one\, what they cover\, time commitment\, what results to expect\n- U
 nderstanding how to conduct a DIY Home Assessment/Energy Audit\n- Understa
 nding ENERGY Star & EnergyGuide information\n- Learn about The Home Upgrad
 e Hub’s services\n\nThis event is free\, but registration is preferred.
X-WR-RELCALID:78acfc3db0bbb44f09b109994d1222f8
X-WR-TIMEZONE:America/Denver
BEGIN:VTIMEZONE
TZID:America/Denver
BEGIN:STANDARD
TZNAME:MST
DTSTART:20241103T020000
TZOFFSETFROM:-0600
TZOFFSETTO:-0700
RDATE:20251102T020000
END:STANDARD
BEGIN:DAYLIGHT
TZNAME:MDT
DTSTART:20240310T020000
TZOFFSETFROM:-0700
TZOFFSETTO:-0600
RDATE:20250309T020000
RDATE:20260308T020000
END:DAYLIGHT
END:VTIMEZONE
BEGIN:VEVENT
UID:32cda0c2-2dad-4090-b3b5-7acf9697e062
DTSTAMP:20260425T143648Z
DESCRIPTION:Join the Home Upgrade Hub for the first semi-annual Planning a 
 Home Energy Efficiency Retrofit Workshop Series! This four-week series wil
 l guide attendees through the multiple steps of planning and prioritizing 
 their home’s retrofit resulting in cost savings\, improved indoor air qual
 ity\, and comfort levels! \n\nSession 1: Assessing & Analyzing Your Home E
 nergy Use\n\nLearning objectives: \n- Understand Energy audits: how to acc
 ess one\, what they cover\, time commitment\, what results to expect\n- Un
 derstanding how to conduct a DIY Home Assessment/Energy Audit\n- Understan
 ding ENERGY Star & EnergyGuide information\n- Learn about The Home Upgrade
  Hub’s services\n\nThis event is free\, but registration is preferred.
DTSTART;TZID=America/Denver:20250306T173000
DTEND;TZID=America/Denver:20250306T190000
LOCATION:1075 South Avenue West\, Lupine Lab\, Missoula\, MT 59801 US
SUMMARY:Workshop 1 of 4: Assessing & Analyzing your Home Energy Use
END:VEVENT
END:VCALENDAR
