BEGIN:VCALENDAR
VERSION:2.0
PRODID:-//missoulaeduplace.org//NONSGML kigkonsult.se iCalcreator 2.30.10//
CALSCALE:GREGORIAN
METHOD:PUBLISH
UID:5a578527-28ce-496a-9eb1-c15e7c9e20b4
X-WR-CALDESC:Join us for our long-awaited Grand Opening!\n\n11 am : Ribbon-
 cutting ceremony\n\n11:15 am - 2 pm : Garden designers and experts on site
  to share their perspectives and inspirations\n\n2 pm - 3:30 pm : LIVE MUS
 IC\, the Night Blooming Jasmine Trio\n\n4 pm : Garden gates close\n
X-WR-RELCALID:6386bac891363494ad88f1c573746161
X-WR-TIMEZONE:America/Denver
BEGIN:VTIMEZONE
TZID:America/Denver
BEGIN:STANDARD
TZNAME:MST
DTSTART:20231105T020000
TZOFFSETFROM:-0600
TZOFFSETTO:-0700
RDATE:20241103T020000
RDATE:20251102T020000
END:STANDARD
BEGIN:DAYLIGHT
TZNAME:MDT
DTSTART:20240310T020000
TZOFFSETFROM:-0700
TZOFFSETTO:-0600
RDATE:20250309T020000
RDATE:20260308T020000
END:DAYLIGHT
END:VTIMEZONE
BEGIN:VEVENT
UID:29952b01-c738-4f50-bb7f-193d2b45b67f
DTSTAMP:20260421T230758Z
DESCRIPTION:Join us for our long-awaited Grand Opening!\n\n11 am : Ribbon-c
 utting ceremony\n\n11:15 am - 2 pm : Garden designers and experts on site 
 to share their perspectives and inspirations\n\n2 pm - 3:30 pm : LIVE MUSI
 C\, the Night Blooming Jasmine Trio\n\n4 pm : Garden gates close\n
DTSTART;TZID=America/Denver:20240914T110000
DTEND;TZID=America/Denver:20240914T160000
LOCATION:Rocky Mountain Gardens\, 1075 South Avenue West\, Missoula\, MT 59
 801 US
SUMMARY:Grand Opening of the Rocky Mountain Gardens
END:VEVENT
END:VCALENDAR
