BEGIN:VCALENDAR
VERSION:2.0
PRODID:-//missoulaeduplace.org//NONSGML kigkonsult.se iCalcreator 2.30.10//
CALSCALE:GREGORIAN
METHOD:PUBLISH
UID:4406d708-5dd7-4293-9504-368b23bf5cac
X-WR-CALDESC:Thank you for a wonderful first season!\n\nAfter this date*\, 
 Rocky Mountain Gardens will be closed for the winter. We will reopen in th
 e spring once the snow has cleared and paths are safe for the public. \n\n
 *Date subject to change if pathways become unsafe for public access.
X-WR-RELCALID:c3445f22e794dc5af7bb48beac1e83bf
X-WR-TIMEZONE:America/Denver
BEGIN:VTIMEZONE
TZID:America/Denver
BEGIN:STANDARD
TZNAME:MST
DTSTART:20241103T020000
TZOFFSETFROM:-0600
TZOFFSETTO:-0700
RDATE:20251102T020000
END:STANDARD
BEGIN:DAYLIGHT
TZNAME:MDT
DTSTART:20240310T020000
TZOFFSETFROM:-0700
TZOFFSETTO:-0600
RDATE:20250309T020000
RDATE:20260308T020000
END:DAYLIGHT
END:VTIMEZONE
BEGIN:VEVENT
UID:1dfea01d-fbf5-485c-9242-5cb333aaf780
DTSTAMP:20260421T195322Z
DESCRIPTION:Thank you for a wonderful first season!\n\nAfter this date*\, R
 ocky Mountain Gardens will be closed for the winter. We will reopen in the
  spring once the snow has cleared and paths are safe for the public. \n\n*
 Date subject to change if pathways become unsafe for public access.
DTSTART;TZID=America/Denver:20241116T100000
DTEND;TZID=America/Denver:20241116T170000
LOCATION:Rocky Mountain Gardens\, 1075 South Ave W\, Missoula\, MT 59801 US
SUMMARY:Last Open Day\, Rocky Mountain Gardens
END:VEVENT
END:VCALENDAR
