BEGIN:VCALENDAR
VERSION:2.0
PRODID:-//missoulaeduplace.org//NONSGML kigkonsult.se iCalcreator 2.30.10//
CALSCALE:GREGORIAN
METHOD:PUBLISH
UID:8a37946b-681d-4478-89ec-6e4c09865872
X-WR-CALDESC:THIS EVENT IS FULL! \n\nJoin us for two days of planned sessio
 ns around grazing and agriculture topics!  Learn from your peers and exper
 ts in their fields!  Keynote Speaker: Glenn Elzinga\; Regenerative Grazing
  & Ranching.  Learn more on soil fertility\, rotational grazing\, agritour
 ism\, pest management\, panels for beef  marketing  & market farming!!\nLo
 cally sourced food provided!\n\nAll of the scholarships have been awarded.
  \n\nOur event is located at the GW Marks Exploration Center on the Fairgr
 ounds campus!  \nHosted by: Missoula and Lake Conservation Districts\, MSU
  Extension\, & Farm Connect MT
X-WR-RELCALID:957111e5b7f9cca3eb69aca34dfbb6bd
X-WR-TIMEZONE:America/Denver
BEGIN:VTIMEZONE
TZID:America/Denver
BEGIN:STANDARD
TZNAME:MST
DTSTART:20241103T020000
TZOFFSETFROM:-0600
TZOFFSETTO:-0700
RDATE:20251102T020000
END:STANDARD
BEGIN:DAYLIGHT
TZNAME:MDT
DTSTART:20240310T020000
TZOFFSETFROM:-0700
TZOFFSETTO:-0600
RDATE:20250309T020000
RDATE:20260308T020000
END:DAYLIGHT
END:VTIMEZONE
BEGIN:VEVENT
UID:81192443-7df7-4d94-8c89-36ae5c9be74c
DTSTAMP:20260421T164952Z
DESCRIPTION:THIS EVENT IS FULL! \n\nJoin us for two days of planned session
 s around grazing and agriculture topics!  Learn from your peers and expert
 s in their fields!  Keynote Speaker: Glenn Elzinga\; Regenerative Grazing 
 & Ranching.  Learn more on soil fertility\, rotational grazing\, agritouri
 sm\, pest management\, panels for beef  marketing  & market farming!!\nLoc
 ally sourced food provided!\n\nAll of the scholarships have been awarded. 
 \n\nOur event is located at the GW Marks Exploration Center on the Fairgro
 unds campus!  \nHosted by: Missoula and Lake Conservation Districts\, MSU 
 Extension\, & Farm Connect MT
DTSTART;TZID=America/Denver:20250130T040000
DTEND;TZID=America/Denver:20250131T040001
LOCATION:1075 South Ave West\, Missoula\, MT 59801 US
SUMMARY:SOLD OUT! Western Montana Grazing and Agriculture Conference
END:VEVENT
END:VCALENDAR
