BEGIN:VCALENDAR
VERSION:2.0
PRODID:-//missoulaeduplace.org//NONSGML kigkonsult.se iCalcreator 2.30.10//
CALSCALE:GREGORIAN
METHOD:PUBLISH
UID:ba26151f-c388-41df-afda-1accf35259fc
X-WR-CALDESC:Salmon Chowder - Herbs in Winter\n\nSavor the flavors of the P
 acific Northwest with a hearty Salmon Chowder that warms you from the insi
 de out. In this class\, we’ll craft this comforting dish while exploring t
 he art of growing herbs in winter. Discover tips for cultivating fresh\, a
 romatic herbs indoors or in cold-weather gardens to enhance your cooking a
 ll season long. Perfect for cozy evenings\, this session combines rich fla
 vors and gardening inspiration to bring the Northwest to your kitchen.\n
X-WR-RELCALID:2c41d76d92abb630f06262b1855a51db
X-WR-TIMEZONE:America/Denver
BEGIN:VTIMEZONE
TZID:America/Denver
BEGIN:STANDARD
TZNAME:MST
DTSTART:20241103T020000
TZOFFSETFROM:-0600
TZOFFSETTO:-0700
RDATE:20251102T020000
END:STANDARD
BEGIN:DAYLIGHT
TZNAME:MDT
DTSTART:20250309T020000
TZOFFSETFROM:-0700
TZOFFSETTO:-0600
RDATE:20260308T020000
END:DAYLIGHT
END:VTIMEZONE
BEGIN:VEVENT
UID:da6f456c-cf8f-4139-824c-5bc428cc3707
DTSTAMP:20260421T133952Z
DESCRIPTION:Salmon Chowder - Herbs in Winter\n\nSavor the flavors of the Pa
 cific Northwest with a hearty Salmon Chowder that warms you from the insid
 e out. In this class\, we’ll craft this comforting dish while exploring th
 e art of growing herbs in winter. Discover tips for cultivating fresh\, ar
 omatic herbs indoors or in cold-weather gardens to enhance your cooking al
 l season long. Perfect for cozy evenings\, this session combines rich flav
 ors and gardening inspiration to bring the Northwest to your kitchen.\n
DTSTART;TZID=America/Denver:20250320T180000
DTEND;TZID=America/Denver:20250320T190000
LOCATION:1075 South Ave. W.\, Missoula\, MT 59801 US
SUMMARY:Cultive & Cook Northwest Comfort in a Bowl - SOLD OUT
END:VEVENT
END:VCALENDAR
