BEGIN:VCALENDAR
VERSION:2.0
PRODID:-//missoulaeduplace.org//NONSGML kigkonsult.se iCalcreator 2.30.10//
CALSCALE:GREGORIAN
METHOD:PUBLISH
UID:bb9245ad-64cc-48bd-a301-7b2a6a32491e
X-WR-CALDESC:Experience the magic of fruit tree grafting!\n\nJoin us on Sat
 urday\, April 12\, for a hands-on workshop led by James Sapp of Sapp's Per
 maculture Orchard. \n\nWhat is grafting?\nThe process of joining two plant
  parts together to create a new fruit tree with desired characteristics.\n
 \nTopics will include:\n- Selecting rootstock\n- Choosing scion varieties
 \n- Proper knife use\n- Care of newly grafted trees. \n\nSupplies will be 
 provided\, including grafting knives\, grafting tape & sealant\, additiona
 l wood for practice\, and apple scion wood to take home.\nGrafting knives 
 available for PURCHASE IN ADVANCE for an additional $25. \n\nDate: Saturda
 y\, April 12\nTime: 1 - 3 pm\nCost: $25.00
X-WR-RELCALID:b4d5bc7b2848946f75cd62e44de24cdb
X-WR-TIMEZONE:America/Denver
BEGIN:VTIMEZONE
TZID:America/Denver
BEGIN:STANDARD
TZNAME:MST
DTSTART:20241103T020000
TZOFFSETFROM:-0600
TZOFFSETTO:-0700
RDATE:20251102T020000
END:STANDARD
BEGIN:DAYLIGHT
TZNAME:MDT
DTSTART:20250309T020000
TZOFFSETFROM:-0700
TZOFFSETTO:-0600
RDATE:20260308T020000
END:DAYLIGHT
END:VTIMEZONE
BEGIN:VEVENT
UID:0c83a22f-512a-4e4f-808f-0c43171b20d6
DTSTAMP:20260421T121010Z
DESCRIPTION:Experience the magic of fruit tree grafting!\n\nJoin us on Satu
 rday\, April 12\, for a hands-on workshop led by James Sapp of Sapp's Perm
 aculture Orchard. \n\nWhat is grafting?\nThe process of joining two plant 
 parts together to create a new fruit tree with desired characteristics.\n
 \nTopics will include:\n- Selecting rootstock\n- Choosing scion varieties
 \n- Proper knife use\n- Care of newly grafted trees. \n\nSupplies will be 
 provided\, including grafting knives\, grafting tape & sealant\, additiona
 l wood for practice\, and apple scion wood to take home.\nGrafting knives 
 available for PURCHASE IN ADVANCE for an additional $25. \n\nDate: Saturda
 y\, April 12\nTime: 1 - 3 pm\nCost: $25.00
DTSTART;TZID=America/Denver:20250412T130000
DTEND;TZID=America/Denver:20250412T150000
LOCATION:Rocky Mountain Gardens\, 1075 South Ave W\, Missoula\, MT\, MT 598
 01 US
SUMMARY:Fruit Tree Grafting
END:VEVENT
END:VCALENDAR
