BEGIN:VCALENDAR
VERSION:2.0
PRODID:-//missoulaeduplace.org//NONSGML kigkonsult.se iCalcreator 2.30.10//
CALSCALE:GREGORIAN
METHOD:PUBLISH
UID:e5f8e911-0f2d-48e3-b45f-52c1feb0da3c
X-WR-CALDESC:This Plant Powered Social Hour will take place at Vine Plants 
 and Design! Owner\, Ryan Tripepi\, will lead us in a discussion about livi
 ng walls and designing with plants. Topics include: plants for aesthetics 
 and functionality\, choosing the right plants for different rooms\, and cr
 eative ways to display them. Stay after the free class and design a succul
 ent creation for purchase from Vine Plants and Design.
X-WR-RELCALID:092027c47597e83e8a10b5735ffc676b
X-WR-TIMEZONE:America/Denver
BEGIN:VTIMEZONE
TZID:America/Denver
BEGIN:STANDARD
TZNAME:MST
DTSTART:20241103T020000
TZOFFSETFROM:-0600
TZOFFSETTO:-0700
RDATE:20251102T020000
RDATE:20261101T020000
END:STANDARD
BEGIN:DAYLIGHT
TZNAME:MDT
DTSTART:20250309T020000
TZOFFSETFROM:-0700
TZOFFSETTO:-0600
RDATE:20260308T020000
END:DAYLIGHT
END:VTIMEZONE
BEGIN:VEVENT
UID:a81d753e-da1d-4945-80e9-0322e48698c9
DTSTAMP:20260421T091458Z
DESCRIPTION:This Plant Powered Social Hour will take place at Vine Plants a
 nd Design! Owner\, Ryan Tripepi\, will lead us in a discussion about livin
 g walls and designing with plants. Topics include: plants for aesthetics a
 nd functionality\, choosing the right plants for different rooms\, and cre
 ative ways to display them. Stay after the free class and design a succule
 nt creation for purchase from Vine Plants and Design.
DTSTART;TZID=America/Denver:20250624T180000
DTEND;TZID=America/Denver:20250624T190000
LOCATION:343 SW Higgins Ave\, Missoula\, MT 59803 US
SUMMARY:Plant Powered Social Hour - Plant Vibes: Styling with Plants
END:VEVENT
END:VCALENDAR
