BEGIN:VCALENDAR
VERSION:2.0
PRODID:-//missoulaeduplace.org//NONSGML kigkonsult.se iCalcreator 2.30.10//
CALSCALE:GREGORIAN
METHOD:PUBLISH
UID:a2136edf-9866-410c-a3c2-d90420d101f6
X-WR-CALDESC:Bring Warmth to Your Winter with a Touch of the Desert!\nBeat 
 the winter chill and brighten your home with our hands-on\, family-friendl
 y succulent workshop! Create your own vibrant living work of art — a color
 ful succulent bowl that brings life indoors all season long.\n\nJoin Ryan 
 Tripepi\, owner of Vine Plants + Design\, as he guides you through choosin
 g\, arranging\, and caring for these hardy little plants — perfect for add
 ing natural beauty to your space during the long winter months. Reconnect 
 with nature\, get creative with loved ones\, and leave with a stunning pie
 ce of living art to enjoy all year round.\n\nEntry includes 2 drink ticket
 s and supplies to make your own succulent bowl creation.
X-WR-RELCALID:28788a4abff2cf8ace4d3cfe6b883ca3
X-WR-TIMEZONE:America/Denver
BEGIN:VTIMEZONE
TZID:America/Denver
BEGIN:STANDARD
TZNAME:MST
DTSTART:20251102T020000
TZOFFSETFROM:-0600
TZOFFSETTO:-0700
RDATE:20261101T020000
END:STANDARD
BEGIN:DAYLIGHT
TZNAME:MDT
DTSTART:20250309T020000
TZOFFSETFROM:-0700
TZOFFSETTO:-0600
RDATE:20260308T020000
RDATE:20270314T020000
END:DAYLIGHT
END:VTIMEZONE
BEGIN:VEVENT
UID:77d9d6ef-afd6-46ad-b99c-ee243553ffc3
DTSTAMP:20260420T225030Z
DESCRIPTION:Bring Warmth to Your Winter with a Touch of the Desert!\nBeat t
 he winter chill and brighten your home with our hands-on\, family-friendly
  succulent workshop! Create your own vibrant living work of art — a colorf
 ul succulent bowl that brings life indoors all season long.\n\nJoin Ryan T
 ripepi\, owner of Vine Plants + Design\, as he guides you through choosing
 \, arranging\, and caring for these hardy little plants — perfect for addi
 ng natural beauty to your space during the long winter months. Reconnect w
 ith nature\, get creative with loved ones\, and leave with a stunning piec
 e of living art to enjoy all year round.\n\nEntry includes 2 drink tickets
  and supplies to make your own succulent bowl creation.
DTSTART;TZID=America/Denver:20260113T180000
DTEND;TZID=America/Denver:20260113T200000
LOCATION:1075 South Ave West \, Missoula\, MT 59801 US
SUMMARY:Blooms & Brews - DIY Succulent Garden
END:VEVENT
END:VCALENDAR
