BEGIN:VCALENDAR
VERSION:2.0
PRODID:-//missoulaeduplace.org//NONSGML kigkonsult.se iCalcreator 2.30.10//
CALSCALE:GREGORIAN
METHOD:PUBLISH
UID:302b14c9-222f-49e3-9f05-07b1775cf8a1
X-WR-CALDESC:Rocky Mountain Gardens will stay open until 8 pm on the first 
 Wednesday of the month\, April through November. \n\nTake a stroll and enj
 oy the gardens during the golden hour!
X-WR-RELCALID:01302c67d72f1e8253bc2f00d65d181b
X-WR-TIMEZONE:America/Denver
BEGIN:VTIMEZONE
TZID:America/Denver
BEGIN:STANDARD
TZNAME:MST
DTSTART:20251102T020000
TZOFFSETFROM:-0600
TZOFFSETTO:-0700
RDATE:20261101T020000
END:STANDARD
BEGIN:DAYLIGHT
TZNAME:MDT
DTSTART:20260308T020000
TZOFFSETFROM:-0700
TZOFFSETTO:-0600
RDATE:20270314T020000
END:DAYLIGHT
END:VTIMEZONE
BEGIN:VEVENT
UID:d252bcc6-8ad9-404b-89ef-3fd4a669d74b
DTSTAMP:20260420T224845Z
DESCRIPTION:Rocky Mountain Gardens will stay open until 8 pm on the first W
 ednesday of the month\, April through November. \n\nTake a stroll and enjo
 y the gardens during the golden hour!
DTSTART;TZID=America/Denver:20260506T170000
DTEND;TZID=America/Denver:20260506T200000
LOCATION:Rocky Mountain Gardens\, 1075 South Ave W\, Missoula\, MT\, AL 598
 01 US
SUMMARY:Evening Garden Hours
END:VEVENT
END:VCALENDAR
