BEGIN:VCALENDAR
VERSION:2.0
PRODID:-//missoulaeduplace.org//NONSGML kigkonsult.se iCalcreator 2.30.10//
CALSCALE:GREGORIAN
METHOD:PUBLISH
UID:821f0cbe-f56c-4fbd-9756-66c67399b889
X-WR-CALDESC:Rocky Mountain Gardens will stay open until 8 pm on the first 
 Wednesday of the month\, April through November. \n\nTake a stroll and enj
 oy the gardens during the golden hour!
X-WR-RELCALID:5f9ff6c4d7342f73f8f4e83b434a608f
X-WR-TIMEZONE:America/Denver
BEGIN:VTIMEZONE
TZID:America/Denver
BEGIN:STANDARD
TZNAME:MST
DTSTART:20251102T020000
TZOFFSETFROM:-0600
TZOFFSETTO:-0700
RDATE:20261101T020000
RDATE:20271107T020000
END:STANDARD
BEGIN:DAYLIGHT
TZNAME:MDT
DTSTART:20260308T020000
TZOFFSETFROM:-0700
TZOFFSETTO:-0600
RDATE:20270314T020000
END:DAYLIGHT
END:VTIMEZONE
BEGIN:VEVENT
UID:567dd891-be5c-4dc5-8ea8-3e6e4c04f5cf
DTSTAMP:20260421T052953Z
DESCRIPTION:Rocky Mountain Gardens will stay open until 8 pm on the first W
 ednesday of the month\, April through November. \n\nTake a stroll and enjo
 y the gardens during the golden hour!
DTSTART;TZID=America/Denver:20260902T170000
DTEND;TZID=America/Denver:20260902T200000
LOCATION:Rocky Mountain Gardens\, 1075 South Ave W\, Missoula\, MT\, AL 598
 01 US
SUMMARY:Evening Garden Hours
END:VEVENT
END:VCALENDAR
