BEGIN:VCALENDAR
VERSION:2.0
PRODID:-//missoulaeduplace.org//NONSGML kigkonsult.se iCalcreator 2.30.10//
CALSCALE:GREGORIAN
METHOD:PUBLISH
UID:9b137f45-a679-48a0-aea4-30807d95b165
X-WR-CALDESC:Registration is CLOSED
X-WR-RELCALID:9f42a6cd5da11aa151757d1d22723d52
X-WR-TIMEZONE:America/Denver
BEGIN:VTIMEZONE
TZID:America/Denver
BEGIN:STANDARD
TZNAME:MST
DTSTART:20241103T020000
TZOFFSETFROM:-0600
TZOFFSETTO:-0700
RDATE:20251102T020000
END:STANDARD
BEGIN:DAYLIGHT
TZNAME:MDT
DTSTART:20240310T020000
TZOFFSETFROM:-0700
TZOFFSETTO:-0600
RDATE:20250309T020000
RDATE:20260308T020000
END:DAYLIGHT
END:VTIMEZONE
BEGIN:VEVENT
UID:22ed69ea-fa6c-42ce-ba9c-b923ef5f9af2
DTSTAMP:20260422T161322Z
DESCRIPTION:Registration is CLOSED
DTSTART;TZID=America/Denver:20241207T090000
DTEND;TZID=America/Denver:20241207T120000
LOCATION:1075 South Ave. W.\, STE 1\, Missoula\, MT 59801 US
SUMMARY:Master Gardener Fall Course Week 9
END:VEVENT
END:VCALENDAR
