BEGIN:VCALENDAR
VERSION:2.0
PRODID:-//missoulaeduplace.org//NONSGML kigkonsult.se iCalcreator 2.30.10//
CALSCALE:GREGORIAN
METHOD:PUBLISH
UID:2964bed4-ca8e-40c1-91a6-9493b879a05a
X-WR-CALDESC:Master Gardener Invite ONLY Training \nPLEASE DO NOT REGISTER 
 UNLESS YOU HAVE BEEN INVITED BY YOUR COUNTY EXTENSION AGENT!\n\nJoin us fo
 r an exclusive full-day learning event with Western Region MSU Extension A
 gents and Abi Saeed\, Montana’s Horticulture Specialist! This invite-only 
 session will feature a diagnostic boot camp designed to enhance your skill
 s. Dive deep into the world of garden pests\, diseases\, and environmental
  challenges. Don’t miss this opportunity to grow your expertise as a Maste
 r Gardener!\n\nDetails:\n\nCost: $40 (includes lunch and a pest ID book)\n
 Credits: 4 Continuing Education Credits\nLunch: Taco bar provided!\n\nAgen
 da:\n\n10:00 AM: Plant ID Basics & Dichotomous Keys\n10:30 AM: Backyard So
 il Fertility\n11:40 AM: Abiotic & Herbicide Damage\n12:30 PM: Lunch (Taco 
 Bar!)\n1:00 PM: Plant Disease Types & Diagnostics\n2:00 PM: Arthropod ID &
  Damage\n4:00 PM: Adjourn\nFor more information\, contact your county exte
 nsion agent. We look forward to seeing you there!\n\n
X-WR-RELCALID:6817732676f5ed6267e0d93b8dedbfa4
X-WR-TIMEZONE:America/Denver
BEGIN:VTIMEZONE
TZID:America/Denver
BEGIN:STANDARD
TZNAME:MST
DTSTART:20241103T020000
TZOFFSETFROM:-0600
TZOFFSETTO:-0700
RDATE:20251102T020000
END:STANDARD
BEGIN:DAYLIGHT
TZNAME:MDT
DTSTART:20250309T020000
TZOFFSETFROM:-0700
TZOFFSETTO:-0600
RDATE:20260308T020000
END:DAYLIGHT
END:VTIMEZONE
BEGIN:VEVENT
UID:d68bc089-2ec0-4cbf-9456-d7ec097f8bb3
DTSTAMP:20260422T222719Z
DESCRIPTION:Master Gardener Invite ONLY Training \nPLEASE DO NOT REGISTER U
 NLESS YOU HAVE BEEN INVITED BY YOUR COUNTY EXTENSION AGENT!\n\nJoin us for
  an exclusive full-day learning event with Western Region MSU Extension Ag
 ents and Abi Saeed\, Montana’s Horticulture Specialist! This invite-only s
 ession will feature a diagnostic boot camp designed to enhance your skills
 . Dive deep into the world of garden pests\, diseases\, and environmental 
 challenges. Don’t miss this opportunity to grow your expertise as a Master
  Gardener!\n\nDetails:\n\nCost: $40 (includes lunch and a pest ID book)\nC
 redits: 4 Continuing Education Credits\nLunch: Taco bar provided!\n\nAgend
 a:\n\n10:00 AM: Plant ID Basics & Dichotomous Keys\n10:30 AM: Backyard Soi
 l Fertility\n11:40 AM: Abiotic & Herbicide Damage\n12:30 PM: Lunch (Taco B
 ar!)\n1:00 PM: Plant Disease Types & Diagnostics\n2:00 PM: Arthropod ID & 
 Damage\n4:00 PM: Adjourn\nFor more information\, contact your county exten
 sion agent. We look forward to seeing you there!\n\n
DTSTART;TZID=America/Denver:20250402T100000
DTEND;TZID=America/Denver:20250402T160000
LOCATION:69286 HWY 93\, Charlo\, MT 59284 US
SUMMARY:INVITE ONLY Master Gardener Only: Diagnostic Bootcamp
END:VEVENT
END:VCALENDAR
