BEGIN:VCALENDAR
VERSION:2.0
PRODID:-//missoulaeduplace.org//NONSGML kigkonsult.se iCalcreator 2.30.10//
CALSCALE:GREGORIAN
METHOD:PUBLISH
UID:8ef2240c-c381-4792-8d0a-4a6e3fa2efa1
X-WR-CALDESC:Learn how to care for your plants during the colder months\, a
 djust lights\, water\, and temperature needs\; how to prevent root rot dur
 ing winter.
X-WR-RELCALID:614686a5cbed101219c8b8bd4c2d8475
X-WR-TIMEZONE:America/Denver
BEGIN:VTIMEZONE
TZID:America/Denver
BEGIN:STANDARD
TZNAME:MST
DTSTART:20241103T020000
TZOFFSETFROM:-0600
TZOFFSETTO:-0700
RDATE:20251102T020000
RDATE:20261101T020000
END:STANDARD
BEGIN:DAYLIGHT
TZNAME:MDT
DTSTART:20250309T020000
TZOFFSETFROM:-0700
TZOFFSETTO:-0600
RDATE:20260308T020000
RDATE:20270314T020000
END:DAYLIGHT
END:VTIMEZONE
BEGIN:VEVENT
UID:0a58991b-2a6a-42e0-9bdb-583c49fe3e35
DTSTAMP:20260423T061238Z
DESCRIPTION:Learn how to care for your plants during the colder months\, ad
 just lights\, water\, and temperature needs\; how to prevent root rot duri
 ng winter.
DTSTART;TZID=America/Denver:20250930T180000
DTEND;TZID=America/Denver:20250930T190000
LOCATION:1075 South Ave West \, Missoula\, MT 59801 US
SUMMARY:Plant Powered Social Hour - Winterizing Your Indoor Garden
END:VEVENT
END:VCALENDAR
