BEGIN:VCALENDAR
VERSION:2.0
PRODID:-//missoulaeduplace.org//NONSGML kigkonsult.se iCalcreator 2.30.10//
CALSCALE:GREGORIAN
METHOD:PUBLISH
UID:ef1f2a63-e2d6-4909-9794-a36ab9ebe741
X-WR-CALDESC:Rocky Mountain Gardens will stay open until 8 pm on the first 
 Wednesday of the month\, April through November. \n\nTake a stroll and enj
 oy the gardens during the golden hour!
X-WR-RELCALID:8378251dee1c8188483fef969b9045b9
X-WR-TIMEZONE:America/Denver
BEGIN:VTIMEZONE
TZID:America/Denver
BEGIN:STANDARD
TZNAME:MST
DTSTART:20251102T020000
TZOFFSETFROM:-0600
TZOFFSETTO:-0700
RDATE:20261101T020000
RDATE:20271107T020000
END:STANDARD
BEGIN:DAYLIGHT
TZNAME:MDT
DTSTART:20260308T020000
TZOFFSETFROM:-0700
TZOFFSETTO:-0600
RDATE:20270314T020000
END:DAYLIGHT
END:VTIMEZONE
BEGIN:VEVENT
UID:cf38ef38-6cd9-4b32-a22a-13055f6b3d6c
DTSTAMP:20260421T095345Z
DESCRIPTION:Rocky Mountain Gardens will stay open until 8 pm on the first W
 ednesday of the month\, April through November. \n\nTake a stroll and enjo
 y the gardens during the golden hour!
DTSTART;TZID=America/Denver:20260805T170000
DTEND;TZID=America/Denver:20260805T200000
LOCATION:Rocky Mountain Gardens\, 1075 South Ave W\, Missoula\, MT\, AL 598
 01 US
SUMMARY:Evening Garden Hours
END:VEVENT
END:VCALENDAR
