BEGIN:VCALENDAR
VERSION:2.0
PRODID:-//missoulaeduplace.org//NONSGML kigkonsult.se iCalcreator 2.30.10//
CALSCALE:GREGORIAN
METHOD:PUBLISH
UID:e2c09670-2381-4f5f-b711-f10a333e8a1e
X-WR-CALDESC:Rocky Mountain Gardens will stay open until 8 pm on the first 
 Wednesday of the month\, April through November. \n\nTake a stroll and enj
 oy the gardens during the golden hour!
X-WR-RELCALID:2144c3cbea86059421ecb7acbcd98703
X-WR-TIMEZONE:America/Denver
BEGIN:VTIMEZONE
TZID:America/Denver
BEGIN:STANDARD
TZNAME:MST
DTSTART:20261101T020000
TZOFFSETFROM:-0600
TZOFFSETTO:-0700
RDATE:20271107T020000
END:STANDARD
BEGIN:DAYLIGHT
TZNAME:MDT
DTSTART:20260308T020000
TZOFFSETFROM:-0700
TZOFFSETTO:-0600
RDATE:20270314T020000
RDATE:20280312T020000
END:DAYLIGHT
END:VTIMEZONE
BEGIN:VEVENT
UID:0bf758e7-867c-488c-b666-cb69aeb4aed0
DTSTAMP:20260419T153739Z
DESCRIPTION:Rocky Mountain Gardens will stay open until 8 pm on the first W
 ednesday of the month\, April through November. \n\nTake a stroll and enjo
 y the gardens during the golden hour!
DTSTART;TZID=America/Denver:20261104T170000
DTEND;TZID=America/Denver:20261104T200000
LOCATION:Rocky Mountain Gardens\, 1075 South Ave W\, Missoula\, MT\, AL 598
 01 US
SUMMARY:Evening Garden Hours
END:VEVENT
END:VCALENDAR
