BEGIN:VCALENDAR
VERSION:2.0
PRODID:-//missoulaeduplace.org//NONSGML kigkonsult.se iCalcreator 2.30.10//
CALSCALE:GREGORIAN
METHOD:PUBLISH
UID:13457ea2-913a-41a4-b705-e3ff03de0196
X-WR-CALDESC:FREE EVENT\nFor green thumbs\, garden geeks\, and all who are 
 interested in exploring the curiosities of the world around us! Join our e
 xpert staff in the Rocky Mountain Gardens to observe seasonal happenings. 
 Come with questions and observations from your own garden!\n\nPlant Powere
 d Happy Hours are free-flowing events that will adapt to the interests of 
 the audience. For more structured learning opportunities\, check out the m
 any additional programs offered in the Exploration Center!\n\nFIRST WEDNES
 DAY OF THE MONTH\nApril - November\n6 - 7 pm\nRegistration appreciated but
  not required\n
X-WR-RELCALID:b91e9d34429da7d13ed268ee75b08636
X-WR-TIMEZONE:America/Denver
BEGIN:VTIMEZONE
TZID:America/Denver
BEGIN:STANDARD
TZNAME:MST
DTSTART:20261101T020000
TZOFFSETFROM:-0600
TZOFFSETTO:-0700
RDATE:20271107T020000
END:STANDARD
BEGIN:DAYLIGHT
TZNAME:MDT
DTSTART:20260308T020000
TZOFFSETFROM:-0700
TZOFFSETTO:-0600
RDATE:20270314T020000
RDATE:20280312T020000
END:DAYLIGHT
END:VTIMEZONE
BEGIN:VEVENT
UID:a5153989-54a4-4c52-a3e4-5812a3d09399
DTSTAMP:20260419T153447Z
DESCRIPTION:FREE EVENT\nFor green thumbs\, garden geeks\, and all who are i
 nterested in exploring the curiosities of the world around us! Join our ex
 pert staff in the Rocky Mountain Gardens to observe seasonal happenings. C
 ome with questions and observations from your own garden!\n\nPlant Powered
  Happy Hours are free-flowing events that will adapt to the interests of t
 he audience. For more structured learning opportunities\, check out the ma
 ny additional programs offered in the Exploration Center!\n\nFIRST WEDNESD
 AY OF THE MONTH\nApril - November\n6 - 7 pm\nRegistration appreciated but 
 not required\n
DTSTART;TZID=America/Denver:20261104T180000
DTEND;TZID=America/Denver:20261104T190000
LOCATION:Rocky Mountain Gardens\, 1075 South Ave W\, Missoula\, MT 59801 US
SUMMARY:FREE- Plant Powered Social Hour
END:VEVENT
END:VCALENDAR
