BEGIN:VCALENDAR
VERSION:2.0
PRODID:-//missoulaeduplace.org//NONSGML kigkonsult.se iCalcreator 2.30.10//
CALSCALE:GREGORIAN
METHOD:PUBLISH
UID:1e80b562-3836-4b29-bd7f-a0a60cd2afe3
X-WR-CALDESC:This month's Cultivate & Cook is FULL! Check back for the upco
 ming month's opportunities. \n\nPlant specialist Sandy Perrin will lead a 
 discussion about locally grown apple varieties. Afterwards\, Kelly Moore\,
  MSU Family & Consumer Science agent\, will share creative ideas for cooki
 ng apples and samples of a delicious apple dish.
X-WR-RELCALID:b3f29fcde377b80f5ead157928dc6cc5
X-WR-TIMEZONE:America/Denver
BEGIN:VTIMEZONE
TZID:America/Denver
BEGIN:STANDARD
TZNAME:MST
DTSTART:20231105T020000
TZOFFSETFROM:-0600
TZOFFSETTO:-0700
RDATE:20241103T020000
RDATE:20251102T020000
END:STANDARD
BEGIN:DAYLIGHT
TZNAME:MDT
DTSTART:20240310T020000
TZOFFSETFROM:-0700
TZOFFSETTO:-0600
RDATE:20250309T020000
RDATE:20260308T020000
END:DAYLIGHT
END:VTIMEZONE
BEGIN:VEVENT
UID:1480ca2e-c02a-486e-8f1f-05a17641e107
DTSTAMP:20260423T005338Z
DESCRIPTION:This month's Cultivate & Cook is FULL! Check back for the upcom
 ing month's opportunities. \n\nPlant specialist Sandy Perrin will lead a d
 iscussion about locally grown apple varieties. Afterwards\, Kelly Moore\, 
 MSU Family & Consumer Science agent\, will share creative ideas for cookin
 g apples and samples of a delicious apple dish.
DTSTART;TZID=America/Denver:20241017T180000
DTEND;TZID=America/Denver:20241017T190000
LOCATION:1075 South Avenue West\, 2\, Missoula\, MT 59801 US
SUMMARY:Cultivate & Cook Apples - FULL
END:VEVENT
END:VCALENDAR
