BEGIN:VCALENDAR
VERSION:2.0
PRODID:-//missoulaeduplace.org//NONSGML kigkonsult.se iCalcreator 2.30.10//
CALSCALE:GREGORIAN
METHOD:PUBLISH
UID:5c0c077e-ff1d-4353-8736-bac6fb769ec2
X-WR-CALDESC:Learn how to grow herbs indoors in the fall & winter months an
 d how to use them in cooking.  Kelly will show how to make a chimichurri s
 auce and then sample beef that has been basted with it.
X-WR-RELCALID:02fc8c3caabaae13ab018d3b95bf08a0
X-WR-TIMEZONE:America/Denver
BEGIN:VTIMEZONE
TZID:America/Denver
BEGIN:STANDARD
TZNAME:MST
DTSTART:20241103T020000
TZOFFSETFROM:-0600
TZOFFSETTO:-0700
RDATE:20251102T020000
END:STANDARD
BEGIN:DAYLIGHT
TZNAME:MDT
DTSTART:20240310T020000
TZOFFSETFROM:-0700
TZOFFSETTO:-0600
RDATE:20250309T020000
RDATE:20260308T020000
END:DAYLIGHT
END:VTIMEZONE
BEGIN:VEVENT
UID:82d9ef04-eefc-49ef-ba36-22ff22519ed2
DTSTAMP:20260422T231127Z
DESCRIPTION:Learn how to grow herbs indoors in the fall & winter months and
  how to use them in cooking.  Kelly will show how to make a chimichurri sa
 uce and then sample beef that has been basted with it.
DTSTART;TZID=America/Denver:20241121T180000
DTEND;TZID=America/Denver:20241121T190000
LOCATION:1075 South Ave W\, Missoula\, MT 59801 US
SUMMARY:Cultivate & Cook Herbs - Sold Out!
END:VEVENT
END:VCALENDAR
