BEGIN:VCALENDAR
VERSION:2.0
PRODID:-//missoulaeduplace.org//NONSGML kigkonsult.se iCalcreator 2.30.10//
CALSCALE:GREGORIAN
METHOD:PUBLISH
UID:c59e4697-5ed7-4a66-a8cb-6f0dad92a09e
X-WR-CALDESC:
X-WR-RELCALID:2bfe51d58575889d0538806d57ae4aa9
X-WR-TIMEZONE:America/Denver
BEGIN:VTIMEZONE
TZID:America/Denver
BEGIN:STANDARD
TZNAME:MST
DTSTART:20251102T020000
TZOFFSETFROM:-0600
TZOFFSETTO:-0700
RDATE:20261101T020000
END:STANDARD
BEGIN:DAYLIGHT
TZNAME:MDT
DTSTART:20250309T020000
TZOFFSETFROM:-0700
TZOFFSETTO:-0600
RDATE:20260308T020000
RDATE:20270314T020000
END:DAYLIGHT
END:VTIMEZONE
BEGIN:VEVENT
UID:948d45b6-5978-4bfa-8cc4-31f47c60a500
DTSTAMP:20260422T030633Z
DESCRIPTION:
DTSTART;TZID=America/Denver:20251224T040000
DTEND;TZID=America/Denver:20251226T040001
LOCATION:
SUMMARY:Offices Closed - Christmas Holiday
END:VEVENT
END:VCALENDAR
