BEGIN:VCALENDAR
VERSION:2.0
PRODID:-//missoulaeduplace.org//NONSGML kigkonsult.se iCalcreator 2.30.10//
CALSCALE:GREGORIAN
METHOD:PUBLISH
UID:3d14a256-7915-4f34-bed5-f27b59298c0e
X-WR-CALDESC:
X-WR-RELCALID:5ccab94a502397baaa05b4aeba5511dc
X-WR-TIMEZONE:America/Denver
BEGIN:VTIMEZONE
TZID:America/Denver
BEGIN:STANDARD
TZNAME:MST
DTSTART:20251102T020000
TZOFFSETFROM:-0600
TZOFFSETTO:-0700
RDATE:20261101T020000
END:STANDARD
BEGIN:DAYLIGHT
TZNAME:MDT
DTSTART:20250309T020000
TZOFFSETFROM:-0700
TZOFFSETTO:-0600
RDATE:20260308T020000
RDATE:20270314T020000
END:DAYLIGHT
END:VTIMEZONE
BEGIN:VEVENT
UID:789066a4-a856-4642-87cd-29ca71e69877
DTSTAMP:20260422T000122Z
DESCRIPTION:
DTSTART;TZID=America/Denver:20260216T040000
DTEND;TZID=America/Denver:20260216T040001
LOCATION:
SUMMARY:Office Closed - President's Day
END:VEVENT
END:VCALENDAR
