BEGIN:VCALENDAR
VERSION:2.0
PRODID:-//missoulaeduplace.org//NONSGML kigkonsult.se iCalcreator 2.30.10//
CALSCALE:GREGORIAN
METHOD:PUBLISH
UID:43d6faab-3115-448a-bdda-af68c9771fd6
X-WR-CALDESC:Join us for this month's Confidence in the Kitchen workshop on
  using sauces and spices.\n\nYour instructor\, MSU Extension Agent Kelly M
 oore\, will guide you through her favorite tips and tricks for creating sa
 uces that pair perfectly with your dish\, and selecting the right spices t
 o season your food!
X-WR-RELCALID:0cd00b1b925da51d6676be54aa213b9f
X-WR-TIMEZONE:America/Denver
BEGIN:VTIMEZONE
TZID:America/Denver
BEGIN:STANDARD
TZNAME:MST
DTSTART:20251102T020000
TZOFFSETFROM:-0600
TZOFFSETTO:-0700
RDATE:20261101T020000
END:STANDARD
BEGIN:DAYLIGHT
TZNAME:MDT
DTSTART:20260308T020000
TZOFFSETFROM:-0700
TZOFFSETTO:-0600
RDATE:20270314T020000
END:DAYLIGHT
END:VTIMEZONE
BEGIN:VEVENT
UID:8bea025b-361d-4c90-8c40-e8e050e9ff81
DTSTAMP:20260421T221652Z
DESCRIPTION:Join us for this month's Confidence in the Kitchen workshop on 
 using sauces and spices.\n\nYour instructor\, MSU Extension Agent Kelly Mo
 ore\, will guide you through her favorite tips and tricks for creating sau
 ces that pair perfectly with your dish\, and selecting the right spices to
  season your food!
DTSTART;TZID=America/Denver:20260505T180000
DTEND;TZID=America/Denver:20260505T190000
LOCATION:1075 South Ave. W.\, Missoula\, MT 59801 US
SUMMARY:Confidence in the Kitchen - Using Sauces & Seasonings
END:VEVENT
END:VCALENDAR
