BEGIN:VCALENDAR
VERSION:2.0
PRODID:-//missoulaeduplace.org//NONSGML kigkonsult.se iCalcreator 2.30.10//
CALSCALE:GREGORIAN
METHOD:PUBLISH
UID:f917c55f-81b4-439a-ad27-0197ccf84947
X-WR-CALDESC:Get ready for a festive treat and some holiday tips!\n\nKelly 
 will be making delicious chocolate waffles topped with cheesecake mousse a
 nd fresh strawberries. Perfect for our holiday celebration—don’t miss it!
 \n\nSandy will give a talk on selecting and caring for poinsettias\, shari
 ng insights on all the new types available. If you're planning to brighten
  up your space with these seasonal favorites\, this is a must-see!\n\n
X-WR-RELCALID:eb1bba6c957e094f72768308afc739bf
X-WR-TIMEZONE:America/Denver
BEGIN:VTIMEZONE
TZID:America/Denver
BEGIN:STANDARD
TZNAME:MST
DTSTART:20241103T020000
TZOFFSETFROM:-0600
TZOFFSETTO:-0700
RDATE:20251102T020000
END:STANDARD
BEGIN:DAYLIGHT
TZNAME:MDT
DTSTART:20240310T020000
TZOFFSETFROM:-0700
TZOFFSETTO:-0600
RDATE:20250309T020000
RDATE:20260308T020000
END:DAYLIGHT
END:VTIMEZONE
BEGIN:VEVENT
UID:6b0ff9b6-b8c0-4d8d-abcd-8a550039c1da
DTSTAMP:20260420T131139Z
DESCRIPTION:Get ready for a festive treat and some holiday tips!\n\nKelly w
 ill be making delicious chocolate waffles topped with cheesecake mousse an
 d fresh strawberries. Perfect for our holiday celebration—don’t miss it!\n
 \nSandy will give a talk on selecting and caring for poinsettias\, sharing
  insights on all the new types available. If you're planning to brighten u
 p your space with these seasonal favorites\, this is a must-see!\n\n
DTSTART;TZID=America/Denver:20241219T180000
DTEND;TZID=America/Denver:20241219T190000
LOCATION:1075 South Avenue West\, Missoula\, MT 59801 US
SUMMARY:Cultivate & Cook - Chocolate Waffles!
END:VEVENT
END:VCALENDAR
