BEGIN:VCALENDAR
VERSION:2.0
PRODID:-//missoulaeduplace.org//NONSGML kigkonsult.se iCalcreator 2.30.10//
CALSCALE:GREGORIAN
METHOD:PUBLISH
UID:d1388c1e-fd26-46e5-8f0a-3e6ab72f06b6
X-WR-CALDESC:Escape the winter doldrums with a cozy day in the kitchen!\n\n
 At this month's Young Chefs in the Kitchen\, participants will mix and bak
 e cookies from scratch. They will build on their kitchen skills and enjoy 
 a delicious end product!\n\n$10/child. \nAll ages welcome\, but kids 4-7 m
 ust be accompanied by a parent or caregiver. No charge for accompanying ad
 ult.\n\nPRE-REGISTRATION REQUIRED. \nCloses at noon the day before\, Frida
 y\, January 24.
X-WR-RELCALID:a8ea7e6734a524a160aa506eb043262e
X-WR-TIMEZONE:America/Denver
BEGIN:VTIMEZONE
TZID:America/Denver
BEGIN:STANDARD
TZNAME:MST
DTSTART:20241103T020000
TZOFFSETFROM:-0600
TZOFFSETTO:-0700
RDATE:20251102T020000
END:STANDARD
BEGIN:DAYLIGHT
TZNAME:MDT
DTSTART:20240310T020000
TZOFFSETFROM:-0700
TZOFFSETTO:-0600
RDATE:20250309T020000
RDATE:20260308T020000
END:DAYLIGHT
END:VTIMEZONE
BEGIN:VEVENT
UID:9bddcd0f-78b9-466a-9dd0-35c16170653b
DTSTAMP:20260420T115154Z
DESCRIPTION:Escape the winter doldrums with a cozy day in the kitchen!\n\nA
 t this month's Young Chefs in the Kitchen\, participants will mix and bake
  cookies from scratch. They will build on their kitchen skills and enjoy a
  delicious end product!\n\n$10/child. \nAll ages welcome\, but kids 4-7 mu
 st be accompanied by a parent or caregiver. No charge for accompanying adu
 lt.\n\nPRE-REGISTRATION REQUIRED. \nCloses at noon the day before\, Friday
 \, January 24.
DTSTART;TZID=America/Denver:20250125T103000
DTEND;TZID=America/Denver:20250125T123000
LOCATION:Honeyberry Culinary Classroom\, G.W. Marks Exploration Center\, 10
 75 South Avenue West\, Missoula\, MT 59801 US
SUMMARY:Young Chefs in the Kitchen: Bake & Take Cookies
END:VEVENT
END:VCALENDAR
