BEGIN:VCALENDAR
VERSION:2.0
PRODID:-//missoulaeduplace.org//NONSGML kigkonsult.se iCalcreator 2.30.10//
CALSCALE:GREGORIAN
METHOD:PUBLISH
UID:015b4b5a-2832-469e-9638-1501b0b85ffc
X-WR-CALDESC:Make a Personal Pan Pizza –\n\nTogether\, we will make the dou
 gh and sauce.  You will choose the toppings to complete your masterpiece p
 izza!\n\nAll ages welcome but kids 6-12 will have to be accompanied by a p
 arent or caregiver. Accompanying adult attends free!\n\nClass size limited
 !  Register now to be guaranteed a spot at the pizza table!\n\n
X-WR-RELCALID:d7e7a9babac279639dcf4b1e8f438ef0
X-WR-TIMEZONE:America/Denver
BEGIN:VTIMEZONE
TZID:America/Denver
BEGIN:STANDARD
TZNAME:MST
DTSTART:20241103T020000
TZOFFSETFROM:-0600
TZOFFSETTO:-0700
RDATE:20251102T020000
END:STANDARD
BEGIN:DAYLIGHT
TZNAME:MDT
DTSTART:20250309T020000
TZOFFSETFROM:-0700
TZOFFSETTO:-0600
RDATE:20260308T020000
END:DAYLIGHT
END:VTIMEZONE
BEGIN:VEVENT
UID:449596c2-e915-4256-9ae2-ba4b1fa70ac5
DTSTAMP:20260422T081759Z
DESCRIPTION:Make a Personal Pan Pizza –\n\nTogether\, we will make the doug
 h and sauce.  You will choose the toppings to complete your masterpiece pi
 zza!\n\nAll ages welcome but kids 6-12 will have to be accompanied by a pa
 rent or caregiver. Accompanying adult attends free!\n\nClass size limited!
   Register now to be guaranteed a spot at the pizza table!\n\n
DTSTART;TZID=America/Denver:20250329T103000
DTEND;TZID=America/Denver:20250329T123000
LOCATION:1075 South Avenue West\, Honeyberry Culinary Classroom\, Missoula\
 , MT 59801 US
SUMMARY:Young Chefs in the Kitchen - Pizza Dough to Toppings
END:VEVENT
END:VCALENDAR
