BEGIN:VCALENDAR
VERSION:2.0
PRODID:-//missoulaeduplace.org//NONSGML kigkonsult.se iCalcreator 2.30.10//
CALSCALE:GREGORIAN
METHOD:PUBLISH
UID:b83acdbb-5673-4e49-960a-c11a089551ab
X-WR-CALDESC:Time to start canning for the Western Montana Fair!\nExplore w
 ater bath and pressure canning\, safety\, equipment\, fair judging guideli
 nes\, and drawings for prizes!\nFree Class.\nMust register in advance.
X-WR-RELCALID:bd1868acedbc7bae51b0606f7da9e118
X-WR-TIMEZONE:America/Denver
BEGIN:VTIMEZONE
TZID:America/Denver
BEGIN:STANDARD
TZNAME:MST
DTSTART:20241103T020000
TZOFFSETFROM:-0600
TZOFFSETTO:-0700
RDATE:20251102T020000
RDATE:20261101T020000
END:STANDARD
BEGIN:DAYLIGHT
TZNAME:MDT
DTSTART:20250309T020000
TZOFFSETFROM:-0700
TZOFFSETTO:-0600
RDATE:20260308T020000
END:DAYLIGHT
END:VTIMEZONE
BEGIN:VEVENT
UID:322dac59-ef08-43b4-9aa7-7e8cce1cb62a
DTSTAMP:20260420T040647Z
DESCRIPTION:Time to start canning for the Western Montana Fair!\nExplore wa
 ter bath and pressure canning\, safety\, equipment\, fair judging guidelin
 es\, and drawings for prizes!\nFree Class.\nMust register in advance.
DTSTART;TZID=America/Denver:20250614T103000
DTEND;TZID=America/Denver:20250614T123000
LOCATION:1075 South Ave West \, Missoula\, MT 59801 US
SUMMARY:Confidence in the Kitchen Series - Blue Ribbon Canning
END:VEVENT
END:VCALENDAR
