BEGIN:VCALENDAR
VERSION:2.0
PRODID:-//missoulaeduplace.org//NONSGML kigkonsult.se iCalcreator 2.30.10//
CALSCALE:GREGORIAN
METHOD:PUBLISH
UID:44a445ab-a3e9-4c7f-8c44-2d753857eb1e
X-WR-CALDESC:Join guest chefs\, Marilyn Gomez\, to learn how to make breakf
 ast burritos. This program is for chefs ages 6-14!
X-WR-RELCALID:92660cd64e3eabce235f722e5d164eb3
X-WR-TIMEZONE:America/Denver
BEGIN:VTIMEZONE
TZID:America/Denver
BEGIN:STANDARD
TZNAME:MST
DTSTART:20241103T020000
TZOFFSETFROM:-0600
TZOFFSETTO:-0700
RDATE:20251102T020000
RDATE:20261101T020000
END:STANDARD
BEGIN:DAYLIGHT
TZNAME:MDT
DTSTART:20250309T020000
TZOFFSETFROM:-0700
TZOFFSETTO:-0600
RDATE:20260308T020000
END:DAYLIGHT
END:VTIMEZONE
BEGIN:VEVENT
UID:b31183ac-b386-4c94-be43-4a091f564a49
DTSTAMP:20260420T032752Z
DESCRIPTION:Join guest chefs\, Marilyn Gomez\, to learn how to make breakfa
 st burritos. This program is for chefs ages 6-14!
DTSTART;TZID=America/Denver:20250621T103000
DTEND;TZID=America/Denver:20250621T123000
LOCATION:1075S Ave. W. Suite # 1\, Missoula\, MT 59801 US
SUMMARY:Young Chefs in the Kitchen: Breakfast Burritos
END:VEVENT
END:VCALENDAR
