BEGIN:VCALENDAR
VERSION:2.0
PRODID:-//missoulaeduplace.org//NONSGML kigkonsult.se iCalcreator 2.30.10//
CALSCALE:GREGORIAN
METHOD:PUBLISH
UID:d0900b75-8175-41ae-b012-63caca2522e4
X-WR-CALDESC:Grow orange and purple cauliflower and Romanesco Brassicas Hea
 lthy Bowl\n\nExplore the vibrant world of brassicas in this exciting garde
 ning and cooking workshop! Learn how to grow eye-catching varieties like o
 range and purple cauliflower and the stunning\, spiraled Romanesco. We’ll 
 guide you through planting\, care tips\, and how to achieve a thriving\, c
 olorful harvest.\n\nNext\, bring your harvest to life in the kitchen as we
  create a delicious and nutritious Brassicas Healthy Bowl. Packed with roa
 sted and fresh brassicas\, wholesome grains\, and a zesty dressing\, this 
 dish showcases the flavor and beauty of these nutrient-rich vegetables.\nJ
 oin us to cultivate\, cook\, and celebrate the brilliance of brassicas in 
 your garden and on your plate!\n
X-WR-RELCALID:f726528ae86298e919787ad1778a82fb
X-WR-TIMEZONE:America/Denver
BEGIN:VTIMEZONE
TZID:America/Denver
BEGIN:STANDARD
TZNAME:MST
DTSTART:20241103T020000
TZOFFSETFROM:-0600
TZOFFSETTO:-0700
RDATE:20251102T020000
RDATE:20261101T020000
END:STANDARD
BEGIN:DAYLIGHT
TZNAME:MDT
DTSTART:20250309T020000
TZOFFSETFROM:-0700
TZOFFSETTO:-0600
RDATE:20260308T020000
END:DAYLIGHT
END:VTIMEZONE
BEGIN:VEVENT
UID:7ee9102e-da80-4d58-b684-39210261d3b9
DTSTAMP:20260420T001443Z
DESCRIPTION:Grow orange and purple cauliflower and Romanesco Brassicas Heal
 thy Bowl\n\nExplore the vibrant world of brassicas in this exciting garden
 ing and cooking workshop! Learn how to grow eye-catching varieties like or
 ange and purple cauliflower and the stunning\, spiraled Romanesco. We’ll g
 uide you through planting\, care tips\, and how to achieve a thriving\, co
 lorful harvest.\n\nNext\, bring your harvest to life in the kitchen as we 
 create a delicious and nutritious Brassicas Healthy Bowl. Packed with roas
 ted and fresh brassicas\, wholesome grains\, and a zesty dressing\, this d
 ish showcases the flavor and beauty of these nutrient-rich vegetables.\nJo
 in us to cultivate\, cook\, and celebrate the brilliance of brassicas in y
 our garden and on your plate!\n
DTSTART;TZID=America/Denver:20250821T180000
DTEND;TZID=America/Denver:20250821T190000
LOCATION:1075 South Ave. W.\, Missoula\, MT 59801 US
SUMMARY:Cultivate & Cook - Brassicas Brilliant & Bright
END:VEVENT
END:VCALENDAR
