BEGIN:VCALENDAR
VERSION:2.0
PRODID:-//missoulaeduplace.org//NONSGML kigkonsult.se iCalcreator 2.30.10//
CALSCALE:GREGORIAN
METHOD:PUBLISH
UID:d85d6207-d224-4c34-8492-5fb6821628e1
X-WR-CALDESC:Are you tired of store-bought tomato sauce?\nIs your tomato ha
 rvest more than you can manage?\n\nLearn to make fresh tomato sauce from s
 cratch at this hands-on workshop!\n\nJoin Kelly Moore\, MSU Family & Consu
 mer Sciences Agent\, for an evening of culinary creation. \n\nDATE: Thursd
 ay\, September 4\nTIME: 6 - 8 pm\nLOCATION: Honeyberry Culinary Classroom\
 , G.W. Marks Exploration Center\nCOST: $20*\n\n*We want our programming to
  be accessible to all! Contact Alex (abrown@missoulacounty.us) for informa
 tion on scholarships.\n\n
X-WR-RELCALID:d64ce6a2ed8de1d95f8b59652f81f7bb
X-WR-TIMEZONE:America/Denver
BEGIN:VTIMEZONE
TZID:America/Denver
BEGIN:STANDARD
TZNAME:MST
DTSTART:20241103T020000
TZOFFSETFROM:-0600
TZOFFSETTO:-0700
RDATE:20251102T020000
RDATE:20261101T020000
END:STANDARD
BEGIN:DAYLIGHT
TZNAME:MDT
DTSTART:20250309T020000
TZOFFSETFROM:-0700
TZOFFSETTO:-0600
RDATE:20260308T020000
END:DAYLIGHT
END:VTIMEZONE
BEGIN:VEVENT
UID:65bcb7ae-de7c-496b-9429-22041fe98ee7
DTSTAMP:20260419T223456Z
DESCRIPTION:Are you tired of store-bought tomato sauce?\nIs your tomato har
 vest more than you can manage?\n\nLearn to make fresh tomato sauce from sc
 ratch at this hands-on workshop!\n\nJoin Kelly Moore\, MSU Family & Consum
 er Sciences Agent\, for an evening of culinary creation. \n\nDATE: Thursda
 y\, September 4\nTIME: 6 - 8 pm\nLOCATION: Honeyberry Culinary Classroom\,
  G.W. Marks Exploration Center\nCOST: $20*\n\n*We want our programming to 
 be accessible to all! Contact Alex (abrown@missoulacounty.us) for informat
 ion on scholarships.\n\n
DTSTART;TZID=America/Denver:20250904T180000
DTEND;TZID=America/Denver:20250904T200000
LOCATION:Honeyberry Culinary Classroom\, G.W. Marks Exploration Center\, 10
 75 South Avenue West\, Missoula\, MT 59801 US
SUMMARY:Workshop: Garden Fresh Tomato Sauce
END:VEVENT
END:VCALENDAR
