BEGIN:VCALENDAR
VERSION:2.0
PRODID:-//missoulaeduplace.org//NONSGML kigkonsult.se iCalcreator 2.30.10//
CALSCALE:GREGORIAN
METHOD:PUBLISH
UID:dfe27d7d-72a7-43ae-bc6d-a9d6bba16823
X-WR-CALDESC:Join us as Blackfoot Cattlewomen's Association member Charlott
 e Iverson shares her knowledge and experience\, helping run a family cattl
 e ranch and feeding her family with home-preserved meats and hearty soups.
  If you are interested in home pressure canning\, this is a MUST-ATTEND cl
 ass!\n\nRegistration required.
X-WR-RELCALID:c64264ae80a316b906fc396d0e816189
X-WR-TIMEZONE:America/Denver
BEGIN:VTIMEZONE
TZID:America/Denver
BEGIN:STANDARD
TZNAME:MST
DTSTART:20251102T020000
TZOFFSETFROM:-0600
TZOFFSETTO:-0700
RDATE:20261101T020000
END:STANDARD
BEGIN:DAYLIGHT
TZNAME:MDT
DTSTART:20250309T020000
TZOFFSETFROM:-0700
TZOFFSETTO:-0600
RDATE:20260308T020000
RDATE:20270314T020000
END:DAYLIGHT
END:VTIMEZONE
BEGIN:VEVENT
UID:d9ab7329-ff07-4674-b2ec-02a6aef16550
DTSTAMP:20260419T164718Z
DESCRIPTION:Join us as Blackfoot Cattlewomen's Association member Charlotte
  Iverson shares her knowledge and experience\, helping run a family cattle
  ranch and feeding her family with home-preserved meats and hearty soups. 
 If you are interested in home pressure canning\, this is a MUST-ATTEND cla
 ss!\n\nRegistration required.
DTSTART;TZID=America/Denver:20260110T100000
DTEND;TZID=America/Denver:20260110T120000
LOCATION:1075 South Ave. W.\, Missoula\, MT 59801 US
SUMMARY:Pressure Canning Meat with Charlotte Iverson
END:VEVENT
END:VCALENDAR
